BEGIN:VCALENDAR
VERSION:2.0
PRODID:-//INSPIRE by L.E.S.U.R.E., Inc. - ECPv6.15.13.1//NONSGML v1.0//EN
CALSCALE:GREGORIAN
METHOD:PUBLISH
X-ORIGINAL-URL:https://inspirebylesure.org
X-WR-CALDESC:Events for INSPIRE by L.E.S.U.R.E., Inc.
REFRESH-INTERVAL;VALUE=DURATION:PT1H
X-Robots-Tag:noindex
X-PUBLISHED-TTL:PT1H
BEGIN:VTIMEZONE
TZID:America/New_York
BEGIN:DAYLIGHT
TZOFFSETFROM:-0500
TZOFFSETTO:-0400
TZNAME:EDT
DTSTART:20200308T070000
END:DAYLIGHT
BEGIN:STANDARD
TZOFFSETFROM:-0400
TZOFFSETTO:-0500
TZNAME:EST
DTSTART:20201101T060000
END:STANDARD
BEGIN:DAYLIGHT
TZOFFSETFROM:-0500
TZOFFSETTO:-0400
TZNAME:EDT
DTSTART:20210314T070000
END:DAYLIGHT
BEGIN:STANDARD
TZOFFSETFROM:-0400
TZOFFSETTO:-0500
TZNAME:EST
DTSTART:20211107T060000
END:STANDARD
BEGIN:DAYLIGHT
TZOFFSETFROM:-0500
TZOFFSETTO:-0400
TZNAME:EDT
DTSTART:20220313T070000
END:DAYLIGHT
BEGIN:STANDARD
TZOFFSETFROM:-0400
TZOFFSETTO:-0500
TZNAME:EST
DTSTART:20221106T060000
END:STANDARD
END:VTIMEZONE
BEGIN:VTIMEZONE
TZID:UTC
BEGIN:STANDARD
TZOFFSETFROM:+0000
TZOFFSETTO:+0000
TZNAME:UTC
DTSTART:20200101T000000
END:STANDARD
END:VTIMEZONE
BEGIN:VEVENT
DTSTART;TZID=America/New_York:20210404T100000
DTEND;TZID=America/New_York:20210404T113000
DTSTAMP:20260424T062611
CREATED:20201228T011305Z
LAST-MODIFIED:20201228T011305Z
UID:46096-1617530400-1617535800@inspirebylesure.org
SUMMARY:Easter Worship Service
DESCRIPTION:The INSPIRE team invites you to attend the Easter worship service under the tent at North Tampa Church of Christ.
URL:https://inspirebylesure.org/event/easter-worship-service/
LOCATION:North Tampa Church of Christ\, 3611 E County Line Road\, Lutz\, FL\, 33559\, United States
END:VEVENT
BEGIN:VEVENT
DTSTART;TZID=America/New_York:20210313T100000
DTEND;TZID=America/New_York:20210313T140000
DTSTAMP:20260424T062611
CREATED:20201228T010649Z
LAST-MODIFIED:20201228T010649Z
UID:46090-1615629600-1615644000@inspirebylesure.org
SUMMARY:Spring Break Family Playdate
DESCRIPTION:Join us for an early afternoon of informal play and fellowship as we kick-off spring break! Bring your family’s lawn chairs (optional) as we enjoy a picnic-style lunch\, outdoor games and activities on us! You will also have a chance to tour the Lakewood Retreat Center where future INSPIRE by L.E.S.U.R.E.\, Inc. fellowship and discipling opportunities will held for youth and families.
URL:https://inspirebylesure.org/event/spring-break-family-playdate/
LOCATION:Lakewood Retreat Center\, 25458 Dan Brown Hill Road\, Brooksville\, FL\, 34602\, United States
END:VEVENT
BEGIN:VEVENT
DTSTART;VALUE=DATE:20210105
DTEND;VALUE=DATE:20210106
DTSTAMP:20260424T062611
CREATED:20201227T221527Z
LAST-MODIFIED:20201227T221527Z
UID:46060-1609804800-1609891199@inspirebylesure.org
SUMMARY:FamilyLife "The Art of Parenting" Series
DESCRIPTION:The INSPIRE team will share video links\, key take-a-way lessons and life application homework from the FamilyLife “The Art of Parenting” 8-week series via our Facebook and Instagram social media channels\, and website\, every Tuesday & Thursday in the month of January.
URL:https://inspirebylesure.org/event/familylife-the-art-of-parenting-series/
LOCATION:Facebook & Instagram
END:VEVENT
END:VCALENDAR