BEGIN:VCALENDAR
VERSION:2.0
PRODID:-//INSPIRE by L.E.S.U.R.E., Inc. - ECPv6.15.13.1//NONSGML v1.0//EN
CALSCALE:GREGORIAN
METHOD:PUBLISH
X-ORIGINAL-URL:https://inspirebylesure.org
X-WR-CALDESC:Events for INSPIRE by L.E.S.U.R.E., Inc.
REFRESH-INTERVAL;VALUE=DURATION:PT1H
X-Robots-Tag:noindex
X-PUBLISHED-TTL:PT1H
BEGIN:VTIMEZONE
TZID:UTC
BEGIN:STANDARD
TZOFFSETFROM:+0000
TZOFFSETTO:+0000
TZNAME:UTC
DTSTART:20210101T000000
END:STANDARD
END:VTIMEZONE
BEGIN:VTIMEZONE
TZID:America/New_York
BEGIN:DAYLIGHT
TZOFFSETFROM:-0500
TZOFFSETTO:-0400
TZNAME:EDT
DTSTART:20210314T070000
END:DAYLIGHT
BEGIN:STANDARD
TZOFFSETFROM:-0400
TZOFFSETTO:-0500
TZNAME:EST
DTSTART:20211107T060000
END:STANDARD
BEGIN:DAYLIGHT
TZOFFSETFROM:-0500
TZOFFSETTO:-0400
TZNAME:EDT
DTSTART:20220313T070000
END:DAYLIGHT
BEGIN:STANDARD
TZOFFSETFROM:-0400
TZOFFSETTO:-0500
TZNAME:EST
DTSTART:20221106T060000
END:STANDARD
BEGIN:DAYLIGHT
TZOFFSETFROM:-0500
TZOFFSETTO:-0400
TZNAME:EDT
DTSTART:20230312T070000
END:DAYLIGHT
BEGIN:STANDARD
TZOFFSETFROM:-0400
TZOFFSETTO:-0500
TZNAME:EST
DTSTART:20231105T060000
END:STANDARD
END:VTIMEZONE
BEGIN:VEVENT
DTSTART;VALUE=DATE:20231128
DTEND;VALUE=DATE:20231129
DTSTAMP:20260423T181658
CREATED:20230412T201950Z
LAST-MODIFIED:20230412T201950Z
UID:46829-1701129600-1701215999@inspirebylesure.org
SUMMARY:Giving Tuesday Fundraiser
DESCRIPTION:Help support our continous efforts to fulfill our mission by donating today! All Facebook contributions are matched when you donate on Giving Tuesday. Please donate on Facebook @ Inspire by LeSure\, Inc. | Facebook!
URL:https://inspirebylesure.org/event/giving-tuesday-fundraiser/
LOCATION:Facebook
END:VEVENT
BEGIN:VEVENT
DTSTART;VALUE=DATE:20231104
DTEND;VALUE=DATE:20231105
DTSTAMP:20260423T181658
CREATED:20230412T201324Z
LAST-MODIFIED:20230412T201324Z
UID:46826-1699056000-1699142399@inspirebylesure.org
SUMMARY:"Making Fishers of Men" Guys' Outreach
DESCRIPTION:
URL:https://inspirebylesure.org/event/making-fishers-of-men-guys-outreach/
LOCATION:TBA
END:VEVENT
BEGIN:VEVENT
DTSTART;VALUE=DATE:20230909
DTEND;VALUE=DATE:20230910
DTSTAMP:20260423T181658
CREATED:20230412T201222Z
LAST-MODIFIED:20230412T201222Z
UID:46824-1694217600-1694303999@inspirebylesure.org
SUMMARY:"Financial Stewardship" AdoLESSON
DESCRIPTION:
URL:https://inspirebylesure.org/event/financial-stewardship-adolesson/
LOCATION:TBA
END:VEVENT
BEGIN:VEVENT
DTSTART;VALUE=DATE:20230819
DTEND;VALUE=DATE:20230820
DTSTAMP:20260423T181658
CREATED:20230412T201120Z
LAST-MODIFIED:20230412T201120Z
UID:46821-1692403200-1692489599@inspirebylesure.org
SUMMARY:"Beaute Inside-Out" Ladies' Outreach
DESCRIPTION:
URL:https://inspirebylesure.org/event/beaute-inside-out-ladies-outreach/
LOCATION:TBA
END:VEVENT
BEGIN:VEVENT
DTSTART;VALUE=DATE:20230620
DTEND;VALUE=DATE:20230621
DTSTAMP:20260423T181658
CREATED:20230412T200941Z
LAST-MODIFIED:20230412T200941Z
UID:46818-1687219200-1687305599@inspirebylesure.org
SUMMARY:Braille Literacy Outreach
DESCRIPTION:***PRIVATE EVENT where we will assist youth with visual impairments (VI) on the life skill of cooking. Participants will receive a VI cookbook for home usage.
URL:https://inspirebylesure.org/event/braille-literacy-outreach/
LOCATION:Lighthouse for the Visually Impaired-New Port Richey
END:VEVENT
BEGIN:VEVENT
DTSTART;TZID=UTC:20230318T120000
DTEND;TZID=UTC:20230318T130000
DTSTAMP:20260423T181658
CREATED:20230128T213712Z
LAST-MODIFIED:20230128T213712Z
UID:46796-1679140800-1679144400@inspirebylesure.org
SUMMARY:Coaching vs. Counseling AdoLESSON (replay)
DESCRIPTION:In recognition of National Social Work Month!
URL:https://inspirebylesure.org/event/coaching-vs-counseling-adolesson-replay/
LOCATION:Facebook & Instagram
END:VEVENT
BEGIN:VEVENT
DTSTART;VALUE=DATE:20221225
DTEND;VALUE=DATE:20221226
DTSTAMP:20260423T181658
CREATED:20220304T051941Z
LAST-MODIFIED:20220304T051941Z
UID:46667-1671926400-1672012799@inspirebylesure.org
SUMMARY:Merry Christmas!
DESCRIPTION:
URL:https://inspirebylesure.org/event/merry-christmas/
ATTACH;FMTTYPE=image/jpeg:https://inspirebylesure.org/wp-content/uploads/2022/03/merry-christmas-lettering-christmas-photo_23-2148380782.jpg
END:VEVENT
BEGIN:VEVENT
DTSTART;VALUE=DATE:20221205
DTEND;VALUE=DATE:20221206
DTSTAMP:20260423T181658
CREATED:20220304T051827Z
LAST-MODIFIED:20220304T051827Z
UID:46664-1670198400-1670284799@inspirebylesure.org
SUMMARY:International Volunteer Day!
DESCRIPTION:
URL:https://inspirebylesure.org/event/international-volunteer-day/
ATTACH;FMTTYPE=image/jpeg:https://inspirebylesure.org/wp-content/uploads/2022/03/volunteers-december5.jpg
END:VEVENT
BEGIN:VEVENT
DTSTART;VALUE=DATE:20221203
DTEND;VALUE=DATE:20221204
DTSTAMP:20260423T181658
CREATED:20220304T051646Z
LAST-MODIFIED:20220304T051646Z
UID:46661-1670025600-1670111999@inspirebylesure.org
SUMMARY:"INSPIRE Others"
DESCRIPTION:Community Service Christmas Spirit Activity
URL:https://inspirebylesure.org/event/inspire-others-3/
ATTACH;FMTTYPE=image/jpeg:https://inspirebylesure.org/wp-content/uploads/2022/03/christmas-volunteer-opportunities-ideas-article-1200x8001-1.jpg
END:VEVENT
BEGIN:VEVENT
DTSTART;VALUE=DATE:20221129
DTEND;VALUE=DATE:20221130
DTSTAMP:20260423T181658
CREATED:20220304T051324Z
LAST-MODIFIED:20220304T051324Z
UID:46658-1669680000-1669766399@inspirebylesure.org
SUMMARY:#GivingTuesday
DESCRIPTION:
URL:https://inspirebylesure.org/event/givingtuesday/
ATTACH;FMTTYPE=image/png:https://inspirebylesure.org/wp-content/uploads/2022/03/give.png
END:VEVENT
BEGIN:VEVENT
DTSTART;VALUE=DATE:20221124
DTEND;VALUE=DATE:20221125
DTSTAMP:20260423T181658
CREATED:20220304T051100Z
LAST-MODIFIED:20220304T051100Z
UID:46655-1669248000-1669334399@inspirebylesure.org
SUMMARY:Happy Thanksgiving Day!
DESCRIPTION:
URL:https://inspirebylesure.org/event/happy-thanksgiving-day/
ATTACH;FMTTYPE=image/jpeg:https://inspirebylesure.org/wp-content/uploads/2022/03/istockphoto-1284116116-612x612-1.jpg
END:VEVENT
BEGIN:VEVENT
DTSTART;TZID=UTC:20221112T170000
DTEND;TZID=UTC:20221112T200000
DTSTAMP:20260423T181658
CREATED:20220304T050812Z
LAST-MODIFIED:20220304T050825Z
UID:46652-1668272400-1668283200@inspirebylesure.org
SUMMARY:Annual Benefit Gala
DESCRIPTION:“INSPIREd by Dreamers” Bryan Glazer Family JCC
URL:https://inspirebylesure.org/event/annual-benefit-gala/
ATTACH;FMTTYPE=image/jpeg:https://inspirebylesure.org/wp-content/uploads/2022/03/download.jpg
END:VEVENT
BEGIN:VEVENT
DTSTART;TZID=America/New_York:20221112T170000
DTEND;TZID=America/New_York:20221112T200000
DTSTAMP:20260423T181658
CREATED:20220131T135259Z
LAST-MODIFIED:20220131T135259Z
UID:46449-1668272400-1668283200@inspirebylesure.org
SUMMARY:Annual Benefit Gala "Inspired by Dreamers"
DESCRIPTION:This is our annual benefit gala fundraiser that completely supports the mission of our ministry. More details to come.
URL:https://inspirebylesure.org/event/annual-benefit-gala-inspired-by-dreamers/
LOCATION:Bryan Glazer Family JCC\, 522 N Howard Ave\, Tampa\, FL\, 33606\, United States
END:VEVENT
BEGIN:VEVENT
DTSTART;TZID=UTC:20221029T150000
DTEND;TZID=UTC:20221029T160000
DTSTAMP:20260423T181658
CREATED:20220304T050452Z
LAST-MODIFIED:20220304T050452Z
UID:46649-1667055600-1667059200@inspirebylesure.org
SUMMARY:Protecting Self Session (Virtual)
DESCRIPTION:
URL:https://inspirebylesure.org/event/protecting-self-session-virtual/
ATTACH;FMTTYPE=image/png:https://inspirebylesure.org/wp-content/uploads/2022/03/Artboard-1-copy-3.png
END:VEVENT
BEGIN:VEVENT
DTSTART;VALUE=DATE:20221029
DTEND;VALUE=DATE:20221030
DTSTAMP:20260423T181658
CREATED:20220330T025512Z
LAST-MODIFIED:20220330T025512Z
UID:46733-1667001600-1667087999@inspirebylesure.org
SUMMARY:Happy Internet Day!
DESCRIPTION:
URL:https://inspirebylesure.org/event/happy-internet-day/
ATTACH;FMTTYPE=image/jpeg:https://inspirebylesure.org/wp-content/uploads/2022/03/medium.jpg
END:VEVENT
BEGIN:VEVENT
DTSTART;TZID=UTC:20221022T110000
DTEND;TZID=UTC:20221022T140000
DTSTAMP:20260423T181658
CREATED:20220304T045855Z
LAST-MODIFIED:20220304T045855Z
UID:46646-1666436400-1666447200@inspirebylesure.org
SUMMARY:"Painting with a Purpose"
DESCRIPTION:Fundraiser at PWAT
URL:https://inspirebylesure.org/event/painting-with-a-purpose/
ATTACH;FMTTYPE=image/jpeg:https://inspirebylesure.org/wp-content/uploads/2022/03/painting-with-a-purpose-logo.jpg
END:VEVENT
BEGIN:VEVENT
DTSTART;TZID=UTC:20221011T080000
DTEND;TZID=UTC:20221011T170000
DTSTAMP:20260423T181658
CREATED:20220303T155022Z
LAST-MODIFIED:20220303T155038Z
UID:46643-1665475200-1665507600@inspirebylesure.org
SUMMARY:International Day of the Girl!
DESCRIPTION:
URL:https://inspirebylesure.org/event/international-day-of-the-girl/
ATTACH;FMTTYPE=image/jpeg:https://inspirebylesure.org/wp-content/uploads/2022/03/girl-power-lettering-cartoon-style-feminism-concept-art-vector-illustration-scandinavian-typography-isolated-white-166348368.jpg
END:VEVENT
BEGIN:VEVENT
DTSTART;VALUE=DATE:20221010
DTEND;VALUE=DATE:20221011
DTSTAMP:20260423T181658
CREATED:20220303T154540Z
LAST-MODIFIED:20220404T084633Z
UID:46640-1665360000-1665446399@inspirebylesure.org
SUMMARY:"INSPIRE Others" Community Service
DESCRIPTION:Community Service to address hunger and mental health in teens without a home.
URL:https://inspirebylesure.org/event/inspire-others-2/
ATTACH;FMTTYPE=image/jpeg:https://inspirebylesure.org/wp-content/uploads/2022/03/to-inspire_grande.jpg
END:VEVENT
BEGIN:VEVENT
DTSTART;VALUE=DATE:20221008
DTEND;VALUE=DATE:20221009
DTSTAMP:20260423T181658
CREATED:20220303T154014Z
LAST-MODIFIED:20220330T022710Z
UID:46637-1665187200-1665273599@inspirebylesure.org
SUMMARY:National Depression Screening Day!
DESCRIPTION:
URL:https://inspirebylesure.org/event/national-depression-screening-day/
ATTACH;FMTTYPE=image/jpeg:https://inspirebylesure.org/wp-content/uploads/2022/03/5354922f-7000-4933-8de4-391e62e0bdf3_800_500.jpg
END:VEVENT
BEGIN:VEVENT
DTSTART;TZID=UTC:20221005T070000
DTEND;TZID=UTC:20221005T073000
DTSTAMP:20260423T181658
CREATED:20220303T153347Z
LAST-MODIFIED:20220303T153418Z
UID:46634-1664953200-1664955000@inspirebylesure.org
SUMMARY:Teachers' Breakfast
DESCRIPTION:Local School
URL:https://inspirebylesure.org/event/teachers-breakfast/
ATTACH;FMTTYPE=image/jpeg:https://inspirebylesure.org/wp-content/uploads/2022/03/teachereating_shutterstock_177603767main.jpg
END:VEVENT
BEGIN:VEVENT
DTSTART;VALUE=DATE:20221005
DTEND;VALUE=DATE:20221006
DTSTAMP:20260423T181658
CREATED:20220303T153029Z
LAST-MODIFIED:20220303T153029Z
UID:46631-1664928000-1665014399@inspirebylesure.org
SUMMARY:World Teacher's Day!
DESCRIPTION:
URL:https://inspirebylesure.org/event/world-teachers-day/
ATTACH;FMTTYPE=image/jpeg:https://inspirebylesure.org/wp-content/uploads/2022/03/5ocmyabuymcsjkjj_1601710246.jpeg
END:VEVENT
BEGIN:VEVENT
DTSTART;VALUE=DATE:20221001
DTEND;VALUE=DATE:20221002
DTSTAMP:20260423T181658
CREATED:20220330T024623Z
LAST-MODIFIED:20220330T024623Z
UID:46728-1664582400-1664668799@inspirebylesure.org
SUMMARY:National Art and Humanities Month!
DESCRIPTION:
URL:https://inspirebylesure.org/event/national-art-and-humanities-month/
END:VEVENT
BEGIN:VEVENT
DTSTART;VALUE=DATE:20221001
DTEND;VALUE=DATE:20221002
DTSTAMP:20260423T181658
CREATED:20220303T152504Z
LAST-MODIFIED:20220303T152504Z
UID:46628-1664582400-1664668799@inspirebylesure.org
SUMMARY:Art Contest Begins!
DESCRIPTION:
URL:https://inspirebylesure.org/event/art-contest-begins/
ATTACH;FMTTYPE=image/jpeg:https://inspirebylesure.org/wp-content/uploads/2022/03/best-art-contests-5.jpg
END:VEVENT
BEGIN:VEVENT
DTSTART;TZID=UTC:20220919T080000
DTEND;TZID=UTC:20220923T170000
DTSTAMP:20260423T181658
CREATED:20220303T151430Z
LAST-MODIFIED:20220303T151430Z
UID:46619-1663574400-1663952400@inspirebylesure.org
SUMMARY:Virtual College Tours!
DESCRIPTION:
URL:https://inspirebylesure.org/event/virtual-college-tours/
ATTACH;FMTTYPE=image/jpeg:https://inspirebylesure.org/wp-content/uploads/2022/03/touring-colleges-1586459444.jpg
END:VEVENT
BEGIN:VEVENT
DTSTART;VALUE=DATE:20220917
DTEND;VALUE=DATE:20220918
DTSTAMP:20260423T181658
CREATED:20220303T151118Z
LAST-MODIFIED:20220303T151118Z
UID:46616-1663372800-1663459199@inspirebylesure.org
SUMMARY:"Fiber Friends"
DESCRIPTION:Sewing & Knitting Group
URL:https://inspirebylesure.org/event/fiber-friends/
ATTACH;FMTTYPE=image/jpeg:https://inspirebylesure.org/wp-content/uploads/2022/03/knitting28.jpg
END:VEVENT
BEGIN:VEVENT
DTSTART;VALUE=DATE:20220910
DTEND;VALUE=DATE:20220911
DTSTAMP:20260423T181658
CREATED:20220303T150637Z
LAST-MODIFIED:20220330T024855Z
UID:46613-1662768000-1662854399@inspirebylesure.org
SUMMARY:SAT / ACT Preparation
DESCRIPTION:
URL:https://inspirebylesure.org/event/sat-act-preparation/
ATTACH;FMTTYPE=image/jpeg:https://inspirebylesure.org/wp-content/uploads/2022/03/How-to-Prepare-for-JIPMER-PG-Entrance.jpg
END:VEVENT
BEGIN:VEVENT
DTSTART;VALUE=DATE:20220910
DTEND;VALUE=DATE:20220911
DTSTAMP:20260423T181658
CREATED:20220303T150428Z
LAST-MODIFIED:20220330T022931Z
UID:46610-1662768000-1662854399@inspirebylesure.org
SUMMARY:Suicide Prevention and Substance Recovery Session (Virtual)
DESCRIPTION:
URL:https://inspirebylesure.org/event/suicide-prevention-and-substance-recovery-session-virtual/
ATTACH;FMTTYPE=image/jpeg:https://inspirebylesure.org/wp-content/uploads/2022/03/suicide-prevention-chicagotherapist.jpg
END:VEVENT
BEGIN:VEVENT
DTSTART;TZID=UTC:20220908T170000
DTEND;TZID=UTC:20220908T203000
DTSTAMP:20260423T181658
CREATED:20220303T150156Z
LAST-MODIFIED:20220303T150156Z
UID:46607-1662656400-1662669000@inspirebylesure.org
SUMMARY:Financial Literacy
DESCRIPTION:
URL:https://inspirebylesure.org/event/financial-literacy/
ATTACH;FMTTYPE=image/jpeg:https://inspirebylesure.org/wp-content/uploads/2022/03/443-1080x608-1.jpg
END:VEVENT
BEGIN:VEVENT
DTSTART;VALUE=DATE:20220908
DTEND;VALUE=DATE:20220909
DTSTAMP:20260423T181658
CREATED:20220303T150031Z
LAST-MODIFIED:20220303T150031Z
UID:46604-1662595200-1662681599@inspirebylesure.org
SUMMARY:International Literacy Day!
DESCRIPTION:
URL:https://inspirebylesure.org/event/international-literacy-day/
ATTACH;FMTTYPE=image/png:https://inspirebylesure.org/wp-content/uploads/2022/03/1_t7PKm5jbl-mZlxx_mZEkWg.png
END:VEVENT
BEGIN:VEVENT
DTSTART;VALUE=DATE:20220901
DTEND;VALUE=DATE:20220902
DTSTAMP:20260423T181658
CREATED:20220330T022817Z
LAST-MODIFIED:20220330T022817Z
UID:46720-1661990400-1662076799@inspirebylesure.org
SUMMARY:National Recovery Month!
DESCRIPTION:
URL:https://inspirebylesure.org/event/national-recovery-month/
ATTACH;FMTTYPE=image/jpeg:https://inspirebylesure.org/wp-content/uploads/2022/03/shutterstock_1747978361-1-scaled.jpg
END:VEVENT
END:VCALENDAR